BEGIN:VCALENDAR
BEGIN:VEVENT
SUMMARY:Cease & Resist: Cameron Campbell\, Ryan Easter\, alana amore colvi
 n (w/ Alfredo Colón\, Anna Abondolo\, Joshua Mathews) [nycnoise]
DTSTART:20250722T230000Z
DTEND:20250723T000000Z
UID:dcaa101b-4b46-495a-8fc4-3d7ce7bd0f16
CREATED:20260420T145300Z
DESCRIPTION:🇵🇸 PACBI
LOCATION:brothers wash & dry laundromat (5420 nurge ave\, queens)
END:VEVENT
END:VCALENDAR
