BEGIN:VCALENDAR
BEGIN:VEVENT
SUMMARY:environs: Pyron\, Celine Kang & Kaizan Connor\, Leftpop\, Paper Ge
 m (DJ) [nycnoise]
DTSTART:20250717T230000Z
DTEND:20250718T000000Z
UID:da5d1496-215c-4326-9f9c-1978504a5919
CREATED:20260420T164008Z
DESCRIPTION:
LOCATION:dada (6047 Myrtle Ave\, Queens\, NY 11385)
END:VEVENT
END:VCALENDAR
