BEGIN:VCALENDAR
BEGIN:VEVENT
SUMMARY:DMG Free Tues: Jose F. Solares / Miranda Agnew / Orchid McRae\, Ai
 dan O’Connell / Matt Knoegel / Michael Larocca\, Greg Sheriff & Sandy Ew
 en [nycnoise]
DTSTART:20250722T223000Z
DTEND:20250722T233000Z
UID:496ca97a-2caa-49b3-8978-c4e1cce13a9a
CREATED:20260420T164012Z
DESCRIPTION:
LOCATION:downtown music gallery (13 monroe st.\, manhattan)
END:VEVENT
END:VCALENDAR
