BEGIN:VCALENDAR
BEGIN:VEVENT
SUMMARY:swimteam VHS (EP Release)\, Phantom Wave\, Star Card\, Gummy [nycn
 oise]
DTSTART:20250717T234500Z
DTEND:20250718T004500Z
UID:dc9a5de1-6ceb-45bb-8455-28b8e6ac45cc
CREATED:20260420T145204Z
DESCRIPTION:7:30pm doors
LOCATION:cobra club (6 wyckoff ave\, brooklyn)
END:VEVENT
END:VCALENDAR
