BEGIN:VCALENDAR
BEGIN:VEVENT
SUMMARY:Bug Jazz\, Weiss + Waters (Charles Waters & Monika Weiss)\, rahra
 hree! (Tamara Yadao & Kurt Gottschalk) [nycnoise]
DTSTART:20250803T230000Z
DTEND:20250804T000000Z
UID:243ef491-e009-4701-93f9-7e40c79fde05
CREATED:20260420T145209Z
DESCRIPTION:
LOCATION:dada (6047 Myrtle Ave\, Queens\, NY 11385)
END:VEVENT
END:VCALENDAR
