BEGIN:VCALENDAR
BEGIN:VEVENT
SUMMARY:JJJJJerome Ellis\, S T A R R busby [nycnoise]
DTSTART:20250709T000000Z
DTEND:20250709T010000Z
UID:e1a006c1-4582-4033-801a-c105bc45a9b6
CREATED:20260420T164013Z
DESCRIPTION:
LOCATION:issue project room (22 boerum place\, brooklyn)
END:VEVENT
END:VCALENDAR
