BEGIN:VCALENDAR
BEGIN:VEVENT
SUMMARY:Union Pool x Academy Records present SUMMER THUNDER: Gunn-Truscins
 ki Duo\, Real Young + Lazy Horse\, DJ Brian Turner [nycnoise]
DTSTART:20250810T180000Z
DTEND:20250810T190000Z
UID:9e05da19-023c-4a0a-8c86-73edb8d02cb6
CREATED:20260420T145208Z
DESCRIPTION:courtyard zone\, "first come first served\, entrance based on 
 capacity"
LOCATION:union pool (484 union ave\, brooklyn)
END:VEVENT
END:VCALENDAR
