BEGIN:VCALENDAR
BEGIN:VEVENT
SUMMARY:Union Pool x Academy Records present SUMMER THUNDER: The Sun Ra Ar
 kestra [nycnoise]
DTSTART:20250824T180000Z
DTEND:20250824T190000Z
UID:f6554962-73ce-4140-980b-a5755cf29e5a
CREATED:20260420T145215Z
DESCRIPTION:courtyard zone\, "first come first served\, entrance based on 
 capacity"
LOCATION:union pool (484 union ave\, brooklyn)
END:VEVENT
END:VCALENDAR
