BEGIN:VCALENDAR
BEGIN:VEVENT
SUMMARY:DJ Ogun\, More Eaze\, Nu Jazz [nycnoise]
DTSTART:20250717T230000Z
DTEND:20250718T000000Z
UID:1b01bb26-0156-491b-b100-07b8e954be22
CREATED:20260420T163856Z
DESCRIPTION:
LOCATION:nublu 151 (151 ave c\, manhattan)
END:VEVENT
END:VCALENDAR
