BEGIN:VCALENDAR
BEGIN:VEVENT
SUMMARY:Uncensored New York: Eli Keszler\, The Wants\, Death Dance Music [
 nycnoise]
DTSTART:20250723T230000Z
DTEND:20250724T000000Z
UID:c8b554d3-4d54-4522-9176-7831475a79d2
CREATED:20260420T145136Z
DESCRIPTION:
LOCATION:nublu 151 (151 ave c\, manhattan)
END:VEVENT
END:VCALENDAR
