BEGIN:VCALENDAR
BEGIN:VEVENT
SUMMARY:Estratos: Key Hutch\, Julia Easterlin [nycnoise]
DTSTART:20250808T230000Z
DTEND:20250809T000000Z
UID:bc23423c-dc70-4db5-9501-24376f276736
CREATED:20260420T145330Z
DESCRIPTION:
LOCATION:nublu 151 (151 ave c\, manhattan)
END:VEVENT
END:VCALENDAR
