BEGIN:VCALENDAR
BEGIN:VEVENT
SUMMARY:Arklight\, Extreme Sports\, Lil Fawn [nycnoise]
DTSTART:20250727T000000Z
DTEND:20250727T010000Z
UID:e9e59451-05b7-4b9b-a98e-5e019d5f6d49
CREATED:20260420T164013Z
DESCRIPTION:
LOCATION:murder palace
END:VEVENT
END:VCALENDAR
