BEGIN:VCALENDAR
BEGIN:VEVENT
SUMMARY:Cecilia Lopez / Joe Moffett / Julia Santoli\, Sam Decker / Gregg B
 elisle-Chi / Tom Rainey / Chris Tordini [nycnoise]
DTSTART:20250725T233000Z
DTEND:20250726T003000Z
UID:c1d9122a-f351-4975-8628-39f09ab84cee
CREATED:20260420T145206Z
DESCRIPTION:
LOCATION:brooklyn artery (1004 Cortelyou Rd\, Brooklyn\, NY 11218)
END:VEVENT
END:VCALENDAR
