BEGIN:VCALENDAR
BEGIN:VEVENT
SUMMARY:13th Law x PLEASE Y.S.: Omololu\, Tan'd Bleu\, Hrlum\, 13th Law [n
 ycnoise]
DTSTART:20250712T233000Z
DTEND:20250713T003000Z
UID:71ca6dbf-b42f-48b5-b0bc-62973d7710ee
CREATED:20260420T145255Z
DESCRIPTION:donate via venmo (@julia-anrather)
LOCATION:please y.s.
END:VEVENT
END:VCALENDAR
