BEGIN:VCALENDAR
BEGIN:VEVENT
SUMMARY:New Ear presents SPATIAL:: Emad Jamal\, ADVIKA [nycnoise]
DTSTART:20250714T000000Z
DTEND:20250714T010000Z
UID:f1d68317-4db1-4f57-bc3b-518b13046e68
CREATED:20260420T145406Z
DESCRIPTION:7:30pm doors
LOCATION:fridman gallery (169 bowery\, manhattan)
END:VEVENT
END:VCALENDAR
