BEGIN:VCALENDAR
BEGIN:VEVENT
SUMMARY:Connors 'Evening Air' Exhibition Closing: Loren Connors & David Gr
 ubbs [nycnoise]
DTSTART:20250711T223000Z
DTEND:20250711T233000Z
UID:75f0afa9-90c7-4aba-8fb5-9107277768cc
CREATED:20260420T164013Z
DESCRIPTION:12pm-6pm gallery
LOCATION:blank forms (3d) (468 grand ave #3d\, brooklyn)
END:VEVENT
END:VCALENDAR
