BEGIN:VCALENDAR
BEGIN:VEVENT
SUMMARY:Dance Is Life: Emily Aslin & Maya Lam\, Lina Azalea Dahbour\, John
 ny Butler & Annie White\, WIFE\, & more [nycnoise]
DTSTART:20250709T233000Z
DTEND:20250710T003000Z
UID:92ed389a-b787-428e-93f4-bddc8d534f76
CREATED:20260420T164141Z
DESCRIPTION:+ live painting by Masato\, The Pocket Fuel Groovers\, host Do
 uglas Sherman
LOCATION:c'mon everybody (325 franklin ave\, brooklyn)
END:VEVENT
END:VCALENDAR
