BEGIN:VCALENDAR
BEGIN:VEVENT
SUMMARY:Low Intervention V: Paul Arámbula\, Jane Cramer\, DJ Plankton [ny
 cnoise]
DTSTART:20250711T233000Z
DTEND:20250712T003000Z
UID:8c9a0c7e-3ca9-449b-864d-5f1492427f32
CREATED:20260420T145147Z
DESCRIPTION:LI curated by Annie Garlid
LOCATION:dada (6047 Myrtle Ave\, Queens\, NY 11385)
END:VEVENT
END:VCALENDAR
