BEGIN:VCALENDAR
BEGIN:VEVENT
SUMMARY:Snock Night: A Celebration of Michael Hurley [nycnoise]
DTSTART:20250720T000000Z
DTEND:20250720T010000Z
UID:f6df4ecb-c453-4389-b68a-2b45651a744c
CREATED:20260420T145203Z
DESCRIPTION:7:30pm doors\; ft. Kevin Copeland\, Ellie McPherson\, Kyle Mor
 gan\, Jane Lai\, Logan Chung\, More Eaze\, Katy Pinke\, Josh Halper\, Ian 
 Davis\, Mikey Buishas\, Nardo Ochoa\, Rachel Housle\, &amp\; more
LOCATION:owl (497 rogers ave\, brooklyn)
END:VEVENT
END:VCALENDAR
