BEGIN:VCALENDAR
BEGIN:VEVENT
SUMMARY:Anh Vo: Live Recording Session [nycnoise]
DTSTART:20250711T180000Z
DTEND:20250711T190000Z
UID:72f12b56-2e93-4eac-bbdd-0124394f8661
CREATED:20260420T145212Z
DESCRIPTION:w/ Kristel Baldoz\, Justin Cabrillos\, Jessica Pavone\, gabby 
 fluke-mogul\, Ethan Philbrick
LOCATION:initial research (41 Wooster Street\, Floor 2\, New York\, NY 100
 13)
END:VEVENT
END:VCALENDAR
