BEGIN:VCALENDAR
BEGIN:VEVENT
SUMMARY:TIME:SPANS: JACK Quartet plays music by Nursalim Yadi Anugerah [ny
 cnoise]
DTSTART:20250810T233000Z
DTEND:20250811T003000Z
UID:e962b38e-a4db-4c1a-b9bf-2a2c58b100a7
CREATED:20260420T145207Z
DESCRIPTION:
LOCATION:dimenna center cary hall (450 w. 37th st.\, manhattan)
END:VEVENT
END:VCALENDAR
