BEGIN:VCALENDAR
BEGIN:VEVENT
SUMMARY:TIME:SPANS: Miranda Cuckson ft. Rand Steiger [nycnoise]
DTSTART:20250811T233000Z
DTEND:20250812T003000Z
UID:988002d8-be72-4852-bd77-3408b1815fce
CREATED:20260420T145156Z
DESCRIPTION:works by Robert Rowe\, Lidia Zielinska\, Steiger\, Diego Tedes
 co\, Kaija Saariaho
LOCATION:dimenna center cary hall (450 w. 37th st.\, manhattan)
END:VEVENT
END:VCALENDAR
