BEGIN:VCALENDAR
BEGIN:VEVENT
SUMMARY:TIME:SPANS: Endlings (Raven Chacon & John Dieterich) & Yarn/Wire [
 nycnoise]
DTSTART:20250821T233000Z
DTEND:20250822T003000Z
UID:5d5a2d40-28d3-4e45-95ed-95bee6fcbc76
CREATED:20260420T145327Z
DESCRIPTION:Y/W: Laura Barger\, Julie Den Boer\, Russell Greenberg\, Bill 
 Solomon
LOCATION:dimenna center cary hall (450 w. 37th st.\, manhattan)
END:VEVENT
END:VCALENDAR
