BEGIN:VCALENDAR
BEGIN:VEVENT
SUMMARY:Concrete Husband [nycnoise]
DTSTART:20250725T230000Z
DTEND:20250726T000000Z
UID:7e15f72e-3873-4300-a2ef-55edcc6e8045
CREATED:20260420T164012Z
DESCRIPTION:6:45pm doors\; "in conjunction with SHELL\, a long-term outdoo
 r installation by Esben Weile Kj&aelig\;r"
LOCATION:amant ten eyck (316 Ten Eyck St\, Brooklyn\, NY 11206)
END:VEVENT
END:VCALENDAR
