BEGIN:VCALENDAR
BEGIN:VEVENT
SUMMARY:Max Abner: 'Four Portraits: a new opera in one act' [nycnoise]
DTSTART:20250711T000000Z
DTEND:20250711T010000Z
UID:3559c49e-5437-4b0f-a8d1-7ca8f8184db7
CREATED:20260420T164038Z
DESCRIPTION:email to RSVP\, link to flyer\, info on insta +++ "set librett
 o &amp\; a score live-composed by experimental free-improvisers" w/ Matt A
 lbani\, Tor&eacute\;e Alexandre\, Eli Berman\, Alana Amore Colvin\, Antoni
 n Fajt\, Telo Hoy\, Rachel Pearl Stuart
LOCATION:atlantic theater stage 2 (330 W 16th St\, New York\, NY 10011\, U
 nited States)
END:VEVENT
END:VCALENDAR
