BEGIN:VCALENDAR
BEGIN:VEVENT
SUMMARY:The School for Temporary Liveness: Experiments in Performance\, Pr
 actice\, & Pedagogy\, Day #1/3 [nycnoise]
DTSTART:20250710T170000Z
DTEND:20250710T180000Z
UID:570f02ea-10d7-4e72-87d5-5b500cb5d2f8
CREATED:20260420T164008Z
DESCRIPTION:montez press RADIO +++ click thru for details\; Denise Ferreir
 a da Silva\, Bilna&rsquo\;es\, nora chipaumire\, Wendy&rsquo\;s Subway / A
 fter Hours Film School
LOCATION:kitchen at westbeth (163 bank st.\, 4th fl.\, manhattan)
END:VEVENT
END:VCALENDAR
