BEGIN:VCALENDAR
BEGIN:VEVENT
SUMMARY:The School for Temporary Liveness: Experiments in Performance\, Pr
 actice\, & Pedagogy\, Day #3/3 [nycnoise]
DTSTART:20250712T170000Z
DTEND:20250712T180000Z
UID:f46ebfa2-c140-47f3-9572-cc8e8588bf9f
CREATED:20260420T164111Z
DESCRIPTION:montez press RADIO +++ click thru for details\; Denise Ferreir
 a da Silva\, Julie Tolentino &amp\; Lia Gangitano\, Darrell Jones\, Julian
 a Huxtable\, nora chipaumire
LOCATION:kitchen at westbeth (163 bank st.\, 4th fl.\, manhattan)
END:VEVENT
END:VCALENDAR
