BEGIN:VCALENDAR
BEGIN:VEVENT
SUMMARY:Open Question (Daniel Carter\, Ayumi Ishito\, Eric Plaks\, Zach Sw
 anson\, Jon Panikkar)\, Jeff Pearring\, Shu Odamura\, Zach Swanson\, Ken K
 obayashi [nycnoise]
DTSTART:20250716T000000Z
DTEND:20250716T010000Z
UID:75de59aa-319f-4ca9-923b-63a168ce6b12
CREATED:20260420T145202Z
DESCRIPTION:
LOCATION:troost (1011 manhattan ave\, brooklyn)
END:VEVENT
END:VCALENDAR
