BEGIN:VCALENDAR
BEGIN:VEVENT
SUMMARY:Maker Park Radio's 8 YR Anniversary Music & Art Fest\, Day #2/2: J
 on Spencer\, NOBRO\, The Thing\, SKORTS [nycnoise]
DTSTART:20250712T210000Z
DTEND:20250712T220000Z
UID:f81137e2-d6c1-4310-ba0b-f707700431ee
CREATED:20260420T145136Z
DESCRIPTION:
LOCATION:makerspace staten island (450 Front St Unit A\, Staten Island\, N
 Y 10301\, United States)
END:VEVENT
END:VCALENDAR
