BEGIN:VCALENDAR
BEGIN:VEVENT
SUMMARY:Yuko Fujiyama / Stephanie Griffin / Reggie Nicholson\, In Real Tim
 e (Carol Liebowitz\, Adam Lane\, Andrew Drury) [nycnoise]
DTSTART:20250809T000000Z
DTEND:20250809T010000Z
UID:42f99ba4-5abe-457c-942a-02711eda3dba
CREATED:20260420T145251Z
DESCRIPTION:
LOCATION:ibeam (168 7th st.\, brooklyn)
END:VEVENT
END:VCALENDAR
