BEGIN:VCALENDAR
BEGIN:VEVENT
SUMMARY:Zoh Amba\, DM Stith\, Smokey Hormel\, Arthur Russell’s 24>24\, L
 aurie Anderson (DJ) [nycnoise]
DTSTART:20250810T223000Z
DTEND:20250810T233000Z
UID:fdb299ab-2f24-4f45-9e17-01438e1a711a
CREATED:20260420T145252Z
DESCRIPTION:looks like the 8:30pm russell piece is sold out\, but i think 
 the sets before &amp\; after are open?
LOCATION:little island (pier 55\, hudson river park at w. 13th st.\, manha
 ttan)
END:VEVENT
END:VCALENDAR
