BEGIN:VCALENDAR
BEGIN:VEVENT
SUMMARY:Bunny\, Cameron Stuart\, Play With Friends\, G.T. Arpe [nycnoise]
DTSTART:20250716T230000Z
DTEND:20250717T000000Z
UID:e6741cd2-02d4-4095-9077-f983f03d2f46
CREATED:20260420T164110Z
DESCRIPTION:
LOCATION:caffeine underground (447 central ave\, brooklyn)
END:VEVENT
END:VCALENDAR
