BEGIN:VCALENDAR
BEGIN:VEVENT
SUMMARY:CMS X Relative Pitch Pitch Present: Secret Special Guest (Record R
 elease): Duos & Trios w/ Cecilia Lopez\, Webb Crawford\, Francesca H.\, Ch
 uck Roth\, Sabrina Salamone\, Maggie Cox [nycnoise]
DTSTART:20250726T000000Z
DTEND:20250726T010000Z
UID:9b1906a8-4bfa-4129-8d0e-dce72bf49504
CREATED:20260420T145341Z
DESCRIPTION:
LOCATION:ibeam (168 7th st.\, brooklyn)
END:VEVENT
END:VCALENDAR
