BEGIN:VCALENDAR
BEGIN:VEVENT
SUMMARY:Arthur Moon [nycnoise]
DTSTART:20250719T230000Z
DTEND:20250720T000000Z
UID:5f4b080d-a291-4aae-9ad0-eb9aafd47ea0
CREATED:20260420T164220Z
DESCRIPTION:AM (Lora-Faye Åshuvud) w/ Cale Hawkins\, Aviva Jaye\, Dave P
 alazola\, Martin D Fowler
LOCATION:public records' sound room (233 butler st.\, brooklyn)
END:VEVENT
END:VCALENDAR
