BEGIN:VCALENDAR
BEGIN:VEVENT
SUMMARY:Continental Shelf\, S.3.R\, Mari Geti\, Prophet II [nycnoise]
DTSTART:20250730T233000Z
DTEND:20250731T003000Z
UID:064abd77-147a-4e54-b44f-ed7a415cde72
CREATED:20260420T163856Z
DESCRIPTION:
LOCATION:hart bar (538 hart st.\, brooklyn)
END:VEVENT
END:VCALENDAR
