BEGIN:VCALENDAR
BEGIN:VEVENT
SUMMARY:Teardrop\, Bleach Thief\, Holy Wisdom LLC\, D A D [nycnoise]
DTSTART:20250731T230000Z
DTEND:20250801T000000Z
UID:d9a117d4-8eb5-41a2-89e2-a80585e56e9c
CREATED:20260420T164012Z
DESCRIPTION:
LOCATION:gold sounds (44 wilson ave\, brooklyn)
END:VEVENT
END:VCALENDAR
