BEGIN:VCALENDAR
BEGIN:VEVENT
SUMMARY:RESURRECTION: Augustus Muller (Boy Harsher DJ Set)\, WTCHCRFT\, Se
 xorcist (Live)\, Junior M [nycnoise]
DTSTART:20250809T013000Z
DTEND:20250809T023000Z
UID:33b5e521-36b0-4303-b593-bfabc9811251
CREATED:20260420T145327Z
DESCRIPTION:🇵🇸 PACBI +++ WELCOME BACK\, PARAGON!!!
LOCATION:paragon (990 broadway\, brooklyn)
END:VEVENT
END:VCALENDAR
