BEGIN:VCALENDAR
BEGIN:VEVENT
SUMMARY:RESURRECTION: Joey Beltram\, Akua\, LISAS\, Kilopatrah Jones\, Mar
 kus [nycnoise]
DTSTART:20250823T013000Z
DTEND:20250823T023000Z
UID:e929e27b-51cb-4ec5-a112-3924ce5aef9d
CREATED:20260420T145252Z
DESCRIPTION:WELCOME BACK\,&nbsp\;PARAGON!!!
LOCATION:paragon (990 broadway\, brooklyn)
END:VEVENT
END:VCALENDAR
