BEGIN:VCALENDAR
BEGIN:VEVENT
SUMMARY:Rollupallooza (Rollup 7YEAR ANNIVERSARY): Ynfynyt Scroll\, Fried P
 látano\, Prince of Queens\, & more [nycnoise]
DTSTART:20250719T020000Z
DTEND:20250719T030000Z
UID:d0b5410e-c0b2-4798-82ab-456ede1d4525
CREATED:20260420T145155Z
DESCRIPTION:🇵🇸 PACBI
LOCATION:bossa nova civic club (1271 myrtle ave\, brooklyn)
END:VEVENT
END:VCALENDAR
