BEGIN:VCALENDAR
BEGIN:VEVENT
SUMMARY:Drama x Audition: DJ Corpmane\, enfleshed\, DJPT\, Jetty [nycnoise
 ]
DTSTART:20250721T020000Z
DTEND:20250721T030000Z
UID:fdeaa434-4c48-402b-8bb4-9643a4bc2de1
CREATED:20260420T145146Z
DESCRIPTION:🇵🇸 PACBI
LOCATION:bossa nova civic club (1271 myrtle ave\, brooklyn)
END:VEVENT
END:VCALENDAR
