BEGIN:VCALENDAR
BEGIN:VEVENT
SUMMARY:Dollar Party: Duality\, Taurus Moon (jo_sway b2b purp)\, Naija Cou
 ture [nycnoise]
DTSTART:20250725T020000Z
DTEND:20250725T030000Z
UID:ba039714-b2c6-4e82-b4a1-a23c8382a4a7
CREATED:20260420T145145Z
DESCRIPTION:🇵🇸 PACBI
LOCATION:bossa nova civic club (1271 myrtle ave\, brooklyn)
END:VEVENT
END:VCALENDAR
