BEGIN:VCALENDAR
BEGIN:VEVENT
SUMMARY:Body Journey: 1morning\, Daniro\, STEMLINES (live)\, CHAGAS [nycno
 ise]
DTSTART:20250727T020000Z
DTEND:20250727T030000Z
UID:bb47758b-8ed2-4d09-99e6-2e55ab23bb19
CREATED:20260420T145155Z
DESCRIPTION:🇵🇸 PACBI
LOCATION:bossa nova civic club (1271 myrtle ave\, brooklyn)
END:VEVENT
END:VCALENDAR
