BEGIN:VCALENDAR
BEGIN:VEVENT
SUMMARY:CfPT Presents: Dreamcrusher\, Meadow Le’elle ft. Whiskey\, Bitch
 machine\, Shiloh Blue\, SSPS (DJ) [nycnoise]
DTSTART:20250725T230000Z
DTEND:20250726T000000Z
UID:5a94dc5b-4048-4f29-b91d-eccdf97b2368
CREATED:20260420T164110Z
DESCRIPTION:🇵🇸 PACBI
LOCATION:intercomm (584 Woodward Ave\, Ridgewood\, NY 11385)
END:VEVENT
END:VCALENDAR
