BEGIN:VCALENDAR
BEGIN:VEVENT
SUMMARY:Tony Malaby (w/ Jacob Sacks\, John Hebért\, Tom Rainey) [nycnoise
 ]
DTSTART:20250720T000000Z
DTEND:20250720T010000Z
UID:1cd00aa4-694f-4811-816e-e63249eb6ea5
CREATED:20260420T145205Z
DESCRIPTION:8pm tix &amp\; 10pm tix
LOCATION:close up jazz (154 Orchard St\, New York\, NY 10002\, United Stat
 es)
END:VEVENT
END:VCALENDAR
