BEGIN:VCALENDAR
BEGIN:VEVENT
SUMMARY:Tony Malaby [nycnoise]
DTSTART:20250720T233000Z
DTEND:20250721T003000Z
UID:655b8054-7d71-4cfb-b58d-a88fc391c889
CREATED:20260420T163856Z
DESCRIPTION:7:30pm w/ Brandon Lopez\, Dan Weiss tix &amp\; 9pm w/ Jacob Sa
 cks\, John H&eacute\;bert\, Tom Rainey tix
LOCATION:close up jazz (154 Orchard St\, New York\, NY 10002\, United Stat
 es)
END:VEVENT
END:VCALENDAR
