BEGIN:VCALENDAR
BEGIN:VEVENT
SUMMARY:Aaron Burnett (w/ Carlos Homs\, Nick Jozwiak\, Dan Weiss) [nycnois
 e]
DTSTART:20250728T233000Z
DTEND:20250729T003000Z
UID:d0399bec-278d-4a44-91db-3c59340e6e99
CREATED:20260420T164141Z
DESCRIPTION:7:30pm tix &amp\; 9pm tix
LOCATION:close up jazz (154 Orchard St\, New York\, NY 10002\, United Stat
 es)
END:VEVENT
END:VCALENDAR
