BEGIN:VCALENDAR
BEGIN:VEVENT
SUMMARY:Big Sexy Noise (Lydia Lunch\, Tim Dahl\, Kevin Shea\, Timo Ellis)\
 , Genre is Death [nycnoise]
DTSTART:20250803T230000Z
DTEND:20250804T000000Z
UID:99f7ff2b-1bb1-4b5e-8015-e6629c82460e
CREATED:20260420T145134Z
DESCRIPTION:
LOCATION:tv eye (1647 Weirfield St\, Ridgewood\, NY 11385)
END:VEVENT
END:VCALENDAR
