BEGIN:VCALENDAR
BEGIN:VEVENT
SUMMARY:Smootaphilia: Ensemble Erotic ‘Summer Heat’ [nycnoise]
DTSTART:20250723T000000Z
DTEND:20250723T010000Z
UID:f96ce800-0c3a-4c01-bca4-b749abb08763
CREATED:20260420T145207Z
DESCRIPTION:smootaphilia live scores sex scenes
LOCATION:tv eye (1647 Weirfield St\, Ridgewood\, NY 11385)
END:VEVENT
END:VCALENDAR
