BEGIN:VCALENDAR
BEGIN:VEVENT
SUMMARY:Bec Lauder & the Noise\, Lex Walton\, Caitlin Starr\, Julia Pierce
  [nycnoise]
DTSTART:20250719T230000Z
DTEND:20250720T000000Z
UID:f55e170d-606a-4b6f-848f-903c4d2fb002
CREATED:20260420T145136Z
DESCRIPTION:
LOCATION:tv eye (1647 Weirfield St\, Ridgewood\, NY 11385)
END:VEVENT
END:VCALENDAR
