BEGIN:VCALENDAR
BEGIN:VEVENT
SUMMARY:Woodbine SummerFest: DJ myyuh\, Sweetbreads\, Jenny Alien\, Sunbea
 m Colleen\, B.L.I.X. [nycnoise]
DTSTART:20250719T180000Z
DTEND:20250719T190000Z
UID:e3dd3c4a-91bc-4d96-95b6-21dcb42918c1
CREATED:20260420T164141Z
DESCRIPTION:
LOCATION:onderdonk house backyard (1820 Flushing Ave\, Ridgewood\, NY 1138
 5)
END:VEVENT
END:VCALENDAR
